BEGIN:VCALENDAR
VERSION:2.0
PRODID:-//Squarespace Inc/Squarespace 6//v6//EN
BEGIN:VEVENT
UID:5c271286c2241bc8b4d94cfb@squarespace.com
DTSTAMP:20181229T062237Z
DTSTART:20190204T004000Z
DTEND:20190204T014000Z
SUMMARY:Screening at Suter Theatre\, Nelson
GEO:-41.270971;173.28418
LOCATION:Suter Theatre\, 208 Bridge Street\, Nelson\, Nelson\, 7010\, New Z
 ealand
END:VEVENT
END:VCALENDAR
