BEGIN:VCALENDAR
VERSION:2.0
PRODID:-//Squarespace Inc/Squarespace 6//v6//EN
BEGIN:VEVENT
UID:5b519c8888251bcb12ad0266@squarespace.com
DTSTAMP:20180725T093134Z
DTSTART:20180806T181500Z
DTEND:20180806T193000Z
SUMMARY:Screening at NZIFF with Q&A
END:VEVENT
END:VCALENDAR
