BEGIN:VCALENDAR
VERSION:2.0
PRODID:-//Squarespace Inc/Squarespace 6//v6//EN
BEGIN:VEVENT
UID:5b519b8b03ce64a352335775@squarespace.com
DTSTAMP:20180720T082506Z
DTSTART:20180805T211500Z
DTEND:20180805T230000Z
SUMMARY:World Premiere Screening at NZIFF
END:VEVENT
END:VCALENDAR
