BEGIN:VCALENDAR
VERSION:2.0
PRODID:-//Squarespace Inc/Squarespace 6//v6//EN
BEGIN:VEVENT
UID:5b519d121ae6cfef2ae1cfa0@squarespace.com
DTSTAMP:20180720T083035Z
DTSTART:20180819T153000Z
DTEND:20180819T164500Z
SUMMARY:Screening At NZIFF with Q&A
END:VEVENT
END:VCALENDAR
